BEGIN:VCALENDAR
VERSION:2.0
PRODID:-//Karl-von-Drais-Schulen - ECPv6.15.20//NONSGML v1.0//EN
CALSCALE:GREGORIAN
METHOD:PUBLISH
X-WR-CALNAME:Karl-von-Drais-Schulen
X-ORIGINAL-URL:https://kvd-mannheim.de
X-WR-CALDESC:Veranstaltungen für Karl-von-Drais-Schulen
REFRESH-INTERVAL;VALUE=DURATION:PT1H
X-Robots-Tag:noindex
X-PUBLISHED-TTL:PT1H
BEGIN:VTIMEZONE
TZID:Europe/Berlin
BEGIN:DAYLIGHT
TZOFFSETFROM:+0100
TZOFFSETTO:+0200
TZNAME:CEST
DTSTART:20240331T010000
END:DAYLIGHT
BEGIN:STANDARD
TZOFFSETFROM:+0200
TZOFFSETTO:+0100
TZNAME:CET
DTSTART:20241027T010000
END:STANDARD
BEGIN:DAYLIGHT
TZOFFSETFROM:+0100
TZOFFSETTO:+0200
TZNAME:CEST
DTSTART:20250330T010000
END:DAYLIGHT
BEGIN:STANDARD
TZOFFSETFROM:+0200
TZOFFSETTO:+0100
TZNAME:CET
DTSTART:20251026T010000
END:STANDARD
BEGIN:DAYLIGHT
TZOFFSETFROM:+0100
TZOFFSETTO:+0200
TZNAME:CEST
DTSTART:20260329T010000
END:DAYLIGHT
BEGIN:STANDARD
TZOFFSETFROM:+0200
TZOFFSETTO:+0100
TZNAME:CET
DTSTART:20261025T010000
END:STANDARD
END:VTIMEZONE
BEGIN:VEVENT
DTSTART;TZID=Europe/Berlin:20251009T000000
DTEND;TZID=Europe/Berlin:20251010T000000
DTSTAMP:20260426T055749
CREATED:20250928T111748Z
LAST-MODIFIED:20250928T112013Z
UID:9615-1759968000-1760054400@kvd-mannheim.de
SUMMARY:Fototermin
DESCRIPTION:Ganztägiger Fototermin.
URL:https://kvd-mannheim.de/event/fototermin-2/
END:VEVENT
END:VCALENDAR