BEGIN:VCALENDAR
VERSION:2.0
PRODID:-//Karl-von-Drais-Schulen - ECPv6.15.20//NONSGML v1.0//EN
CALSCALE:GREGORIAN
METHOD:PUBLISH
X-WR-CALNAME:Karl-von-Drais-Schulen
X-ORIGINAL-URL:https://kvd-mannheim.de
X-WR-CALDESC:Veranstaltungen für Karl-von-Drais-Schulen
REFRESH-INTERVAL;VALUE=DURATION:PT1H
X-Robots-Tag:noindex
X-PUBLISHED-TTL:PT1H
BEGIN:VTIMEZONE
TZID:Europe/Berlin
BEGIN:DAYLIGHT
TZOFFSETFROM:+0100
TZOFFSETTO:+0200
TZNAME:CEST
DTSTART:20250330T010000
END:DAYLIGHT
BEGIN:STANDARD
TZOFFSETFROM:+0200
TZOFFSETTO:+0100
TZNAME:CET
DTSTART:20251026T010000
END:STANDARD
BEGIN:DAYLIGHT
TZOFFSETFROM:+0100
TZOFFSETTO:+0200
TZNAME:CEST
DTSTART:20260329T010000
END:DAYLIGHT
BEGIN:STANDARD
TZOFFSETFROM:+0200
TZOFFSETTO:+0100
TZNAME:CET
DTSTART:20261025T010000
END:STANDARD
BEGIN:DAYLIGHT
TZOFFSETFROM:+0100
TZOFFSETTO:+0200
TZNAME:CEST
DTSTART:20270328T010000
END:DAYLIGHT
BEGIN:STANDARD
TZOFFSETFROM:+0200
TZOFFSETTO:+0100
TZNAME:CET
DTSTART:20271031T010000
END:STANDARD
END:VTIMEZONE
BEGIN:VEVENT
DTSTART;TZID=Europe/Berlin:20260204T081500
DTEND;TZID=Europe/Berlin:20260206T122500
DTSTAMP:20260425T195057
CREATED:20250928T111929Z
LAST-MODIFIED:20250928T111929Z
UID:9632-1770192900-1770380700@kvd-mannheim.de
SUMMARY:Projekttage
DESCRIPTION:Kein Unterricht am Nachmittag – Betreuung wird angeboten.
URL:https://kvd-mannheim.de/event/projekttage-3/
END:VEVENT
BEGIN:VEVENT
DTSTART;TZID=Europe/Berlin:20260207T110000
DTEND;TZID=Europe/Berlin:20260207T140000
DTSTAMP:20260425T195057
CREATED:20250928T111929Z
LAST-MODIFIED:20250928T111929Z
UID:9633-1770462000-1770472800@kvd-mannheim.de
SUMMARY:Tag der offenen Tür
DESCRIPTION:
URL:https://kvd-mannheim.de/event/tag-der-offenen-tuer-3/
END:VEVENT
BEGIN:VEVENT
DTSTART;TZID=Europe/Berlin:20260209T000000
DTEND;TZID=Europe/Berlin:20260209T000000
DTSTAMP:20260425T195057
CREATED:20250928T111930Z
LAST-MODIFIED:20250928T111930Z
UID:9634-1770595200-1770595200@kvd-mannheim.de
SUMMARY:Zeugnisse/Halbjahresinformationen (Kl. 5–10)
DESCRIPTION:
URL:https://kvd-mannheim.de/event/zeugnisse-halbjahresinformationen-kl-5-10/
END:VEVENT
BEGIN:VEVENT
DTSTART;TZID=Europe/Berlin:20260216T000000
DTEND;TZID=Europe/Berlin:20260220T000000
DTSTAMP:20260425T195057
CREATED:20250928T112102Z
LAST-MODIFIED:20250928T112102Z
UID:9658-1771200000-1771545600@kvd-mannheim.de
SUMMARY:Fastnachtsferien 2026
DESCRIPTION:
URL:https://kvd-mannheim.de/event/fastnachtsferien-2026/
END:VEVENT
BEGIN:VEVENT
DTSTART;TZID=Europe/Berlin:20260223T000000
DTEND;TZID=Europe/Berlin:20260223T000000
DTSTAMP:20260425T195057
CREATED:20250928T112103Z
LAST-MODIFIED:20250928T112103Z
UID:9659-1771804800-1771804800@kvd-mannheim.de
SUMMARY:Unterrichtsbeginn nach Fastnacht
DESCRIPTION:
URL:https://kvd-mannheim.de/event/unterrichtsbeginn-nach-fastnacht/
END:VEVENT
END:VCALENDAR